BEGIN:VCALENDAR
VERSION:2.0
PRODID:-//London Amateur Brewers - ECPv6.15.20//NONSGML v1.0//EN
CALSCALE:GREGORIAN
METHOD:PUBLISH
X-WR-CALNAME:London Amateur Brewers
X-ORIGINAL-URL:https://londonamateurbrewers.co.uk
X-WR-CALDESC:Events for London Amateur Brewers
REFRESH-INTERVAL;VALUE=DURATION:PT1H
X-Robots-Tag:noindex
X-PUBLISHED-TTL:PT1H
BEGIN:VTIMEZONE
TZID:Europe/London
BEGIN:DAYLIGHT
TZOFFSETFROM:+0000
TZOFFSETTO:+0100
TZNAME:BST
DTSTART:20250330T010000
END:DAYLIGHT
BEGIN:STANDARD
TZOFFSETFROM:+0100
TZOFFSETTO:+0000
TZNAME:GMT
DTSTART:20251026T010000
END:STANDARD
BEGIN:DAYLIGHT
TZOFFSETFROM:+0000
TZOFFSETTO:+0100
TZNAME:BST
DTSTART:20260329T010000
END:DAYLIGHT
BEGIN:STANDARD
TZOFFSETFROM:+0100
TZOFFSETTO:+0000
TZNAME:GMT
DTSTART:20261025T010000
END:STANDARD
BEGIN:DAYLIGHT
TZOFFSETFROM:+0000
TZOFFSETTO:+0100
TZNAME:BST
DTSTART:20270328T010000
END:DAYLIGHT
BEGIN:STANDARD
TZOFFSETFROM:+0100
TZOFFSETTO:+0000
TZNAME:GMT
DTSTART:20271031T010000
END:STANDARD
END:VTIMEZONE
BEGIN:VEVENT
DTSTART;TZID=Europe/London:20260420T190000
DTEND;TZID=Europe/London:20260420T220000
DTSTAMP:20260420T052034
CREATED:20251215T193137Z
LAST-MODIFIED:20260126T180906Z
UID:2451-1776711600-1776722400@londonamateurbrewers.co.uk
SUMMARY:LAB Online Meeting: AI Generated Beer - April 2026
DESCRIPTION:Our online meeting will take place at 19:00-22:00 – we’ll run the meeting over Zoom and it’s open to anyone from the home brewing community to join in on\, please just jump in. \nFor the meeting invite and password\, please email admin@londonamateurbrewers.co.uk or message @londonamateurbrewers on facebook. \nThis month\, we’ve got James Cross talking to us about using AI in your homebrewing. \n𝗦𝗰𝗵𝗲𝗱𝘂𝗹𝗲\n19:00 Welcome and club update\n19:30 Talk\n21:00 Club members Q&A and general chit chat – what’s brewing etc.\n22:00 Meeting to close (unless folks want to hang around and chat some more)
URL:https://londonamateurbrewers.co.uk/event/lab-online-meeting-ai-generated-beer-april-2026/
CATEGORIES:LAB Meetings,LAB Meetings: Online
END:VEVENT
END:VCALENDAR