BEGIN:VCALENDAR
VERSION:2.0
PRODID:-//London Amateur Brewers - ECPv6.15.20//NONSGML v1.0//EN
CALSCALE:GREGORIAN
METHOD:PUBLISH
X-WR-CALNAME:London Amateur Brewers
X-ORIGINAL-URL:https://londonamateurbrewers.co.uk
X-WR-CALDESC:Events for London Amateur Brewers
REFRESH-INTERVAL;VALUE=DURATION:PT1H
X-Robots-Tag:noindex
X-PUBLISHED-TTL:PT1H
BEGIN:VTIMEZONE
TZID:Europe/London
BEGIN:DAYLIGHT
TZOFFSETFROM:+0000
TZOFFSETTO:+0100
TZNAME:BST
DTSTART:20250330T010000
END:DAYLIGHT
BEGIN:STANDARD
TZOFFSETFROM:+0100
TZOFFSETTO:+0000
TZNAME:GMT
DTSTART:20251026T010000
END:STANDARD
BEGIN:DAYLIGHT
TZOFFSETFROM:+0000
TZOFFSETTO:+0100
TZNAME:BST
DTSTART:20260329T010000
END:DAYLIGHT
BEGIN:STANDARD
TZOFFSETFROM:+0100
TZOFFSETTO:+0000
TZNAME:GMT
DTSTART:20261025T010000
END:STANDARD
BEGIN:DAYLIGHT
TZOFFSETFROM:+0000
TZOFFSETTO:+0100
TZNAME:BST
DTSTART:20270328T010000
END:DAYLIGHT
BEGIN:STANDARD
TZOFFSETFROM:+0100
TZOFFSETTO:+0000
TZNAME:GMT
DTSTART:20271031T010000
END:STANDARD
END:VTIMEZONE
BEGIN:VEVENT
DTSTART;TZID=Europe/London:20260302T183000
DTEND;TZID=Europe/London:20260302T220000
DTSTAMP:20260420T084221
CREATED:20251215T200115Z
LAST-MODIFIED:20260107T110213Z
UID:2462-1772476200-1772488800@londonamateurbrewers.co.uk
SUMMARY:LAB In-Person Meeting: March 2026
DESCRIPTION:This month’s in-person meeting\, as usual\, will be held at Mash Paddle Brewery – 92 Enid St\, London SE16 4AW. \nThis month we will have a general tasting of beers that members bring in. \nIf you’re planning on bringing a beer for tasting\, please bring at least 2 litres so there is enough to go round the whole club for samples. You are welcome to bring more than one beer\, but if there are too many beers to fit into the evening we may only have time to sample one of them. \nMeeting Schedule\n\n6.30pm – Arrival\, registration\, grab a beer\n7.00pm – In-depth assessment of 4-5 beers (specific feedback/help with addressing a fault/no feelings spared critical analysis/etc.)\n8.30pm – Grab a beer\, prepare for tasting\n8.45pm – Tasting session\, general feedback on 5-6 beers\n10.00pm – Wrap up & clean up
URL:https://londonamateurbrewers.co.uk/event/lab-in-person-meeting-march-2026/
LOCATION:Mash Paddle Brewery\, 92 Enid Street\, London\, SE16 3RA\, United Kingdom
CATEGORIES:LAB Meetings,LAB Meetings: In-Person
END:VEVENT
BEGIN:VEVENT
DTSTART;TZID=Europe/London:20260316T190000
DTEND;TZID=Europe/London:20260316T220000
DTSTAMP:20260420T084221
CREATED:20260126T181805Z
LAST-MODIFIED:20260126T181805Z
UID:2513-1773687600-1773698400@londonamateurbrewers.co.uk
SUMMARY:LAB Online Meeting: All Things Stout & Beautiful with Francesco Antonelli - March 2026
DESCRIPTION:Our online meeting will take place at 19:00-22:00 – we’ll run the meeting over Zoom and it’s open to anyone from the home brewing community to join in on\, please just jump in. \nFor the meeting invite and password\, please email admin@londonamateurbrewers.co.uk or message @londonamateurbrewers on Facebook. \nThis month\, we are really lucky to have Francesco Antonelli\, one of Europe’s (or is it Europe’s only) Grand Master BJCP judge\, join us for a talk and discussion on all things Stout.\n\nFrancesco is a great fried of LAB\, often flying in to help us with judging Lager Than Life and LAB Open along with competitions organised by other UK homebrew clubs. It is due to the dedication and hard work of people like Francesco that home brew competitions are the success they are.\n\nSchedule\n19:00 Welcome and club update19:30 Talk and Q&A session on Stout with Francesco21:00 Club members Q&A and general chit chat – what’s brewing etc.22:00 Meeting to close (unless folks want to hang around and chat some more)
URL:https://londonamateurbrewers.co.uk/event/lab-online-meeting-all-things-stout-beautiful-with-francesco-antonelli-march-2026/
CATEGORIES:LAB Meetings,LAB Meetings: Online
END:VEVENT
BEGIN:VEVENT
DTSTART;VALUE=DATE:20260321
DTEND;VALUE=DATE:20260322
DTSTAMP:20260420T084221
CREATED:20251103T091951Z
LAST-MODIFIED:20251103T091951Z
UID:2355-1774051200-1774137599@londonamateurbrewers.co.uk
SUMMARY:Lager Than Life
DESCRIPTION:Together with our friends at Pillars Brewery we’re excited to announce the 2026 edition of Lager Than Life \nThe competition and festival will take place on 21st March 2026 at Pillars Brewery in Walthamstow. \nhttps://competitions.londonamateurbrewers.co.uk/lagerthanlife/
URL:https://londonamateurbrewers.co.uk/event/lager-than-life-2026/
LOCATION:Pillars Brewery\, Unit 2\, Ravenswood Industrial Estate\, Shernhall Street\, London\, E17 9HQ\, United Kingdom
CATEGORIES:Competitions
END:VEVENT
BEGIN:VEVENT
DTSTART;VALUE=DATE:20260328
DTEND;VALUE=DATE:20260329
DTSTAMP:20260420T084221
CREATED:20260105T203536Z
LAST-MODIFIED:20260105T203550Z
UID:2482-1774656000-1774742399@londonamateurbrewers.co.uk
SUMMARY:NHC Ireland National Homebrew Competition
DESCRIPTION:Welcome back to the NHC Ireland National Homebrew Competition! \nAfter a successful 2025 Championship\, this year we are keeping the event in Dublin! The National Homebrew Competition of Ireland will be held at Rascals Brewing Company\, Dublin. \nWe welcome all styles to the competition\, they will be judged in accordance with BJCP competition rules.
URL:https://londonamateurbrewers.co.uk/event/nhc-ireland-national-homebrew-competition-2026/
LOCATION:Rascals Brewing Co.\, Unit 5\, Goldenbridge Estate\, Tyrconnell Rd\, Inchicore\, Dublin\, Inchicore\, D08 HF68\, Ireland
CATEGORIES:Competitions
END:VEVENT
BEGIN:VEVENT
DTSTART;TZID=Europe/London:20260328T170000
DTEND;TZID=Europe/London:20260328T220000
DTSTAMP:20260420T084221
CREATED:20260316T172147Z
LAST-MODIFIED:20260316T192258Z
UID:2572-1774717200-1774735200@londonamateurbrewers.co.uk
SUMMARY:LAB Social @ Five Points
DESCRIPTION:Likely to meet somewhere else beforehand\, all info will be on Slack
URL:https://londonamateurbrewers.co.uk/event/lab-social-five-points/
LOCATION:Five Points\, 61 Mare St\, London\, E8 4RG\, United Kingdom
CATEGORIES:Social
END:VEVENT
END:VCALENDAR